BEGIN:VCALENDAR
VERSION:2.0
PRODID:-//Visit Ilfracombe - ECPv6.11.2.1//NONSGML v1.0//EN
CALSCALE:GREGORIAN
METHOD:PUBLISH
X-WR-CALNAME:Visit Ilfracombe
X-ORIGINAL-URL:https://dev.visitilfracombe.co.uk
X-WR-CALDESC:Events for Visit Ilfracombe
REFRESH-INTERVAL;VALUE=DURATION:PT1H
X-Robots-Tag:noindex
X-PUBLISHED-TTL:PT1H
BEGIN:VTIMEZONE
TZID:Europe/London
BEGIN:DAYLIGHT
TZOFFSETFROM:+0000
TZOFFSETTO:+0100
TZNAME:BST
DTSTART:20250330T010000
END:DAYLIGHT
BEGIN:STANDARD
TZOFFSETFROM:+0100
TZOFFSETTO:+0000
TZNAME:GMT
DTSTART:20251026T010000
END:STANDARD
END:VTIMEZONE
BEGIN:VEVENT
DTSTART;TZID=Europe/London:20250808T080000
DTEND;TZID=Europe/London:20250808T170000
DTSTAMP:20260421T133523
CREATED:20250214T140146Z
LAST-MODIFIED:20250317T091052Z
UID:41824-1754640000-1754672400@dev.visitilfracombe.co.uk
SUMMARY:Summer Fake Festival
DESCRIPTION:This isn’t real
URL:https://dev.visitilfracombe.co.uk/event/summer-fake-festival/
LOCATION:The Lantern Centre\, High Street\, Ilfracombe\, EX34 9QB\, United Kingdom
CATEGORIES:Ilfracombe
ATTACH;FMTTYPE=image/jpeg:https://dev.visitilfracombe.co.uk/wp-content/uploads/2019/10/Maritime-Festival-JULY-Ellie-Jarvis.jpg
END:VEVENT
END:VCALENDAR