BEGIN:VCALENDAR
VERSION:2.0
PRODID:-//Visit Ilfracombe - ECPv6.11.2.1//NONSGML v1.0//EN
CALSCALE:GREGORIAN
METHOD:PUBLISH
X-WR-CALNAME:Visit Ilfracombe
X-ORIGINAL-URL:https://dev.visitilfracombe.co.uk
X-WR-CALDESC:Events for Visit Ilfracombe
REFRESH-INTERVAL;VALUE=DURATION:PT1H
X-Robots-Tag:noindex
X-PUBLISHED-TTL:PT1H
BEGIN:VTIMEZONE
TZID:Europe/London
BEGIN:DAYLIGHT
TZOFFSETFROM:+0000
TZOFFSETTO:+0100
TZNAME:BST
DTSTART:20250330T010000
END:DAYLIGHT
BEGIN:STANDARD
TZOFFSETFROM:+0100
TZOFFSETTO:+0000
TZNAME:GMT
DTSTART:20251026T010000
END:STANDARD
END:VTIMEZONE
BEGIN:VEVENT
DTSTART;TZID=Europe/London:20250830T080000
DTEND;TZID=Europe/London:20250830T170000
DTSTAMP:20260421T120123
CREATED:20250214T141152Z
LAST-MODIFIED:20250317T091312Z
UID:41835-1756540800-1756573200@dev.visitilfracombe.co.uk
SUMMARY:Summer Fake Festival 4
DESCRIPTION:This isn’t real
URL:https://dev.visitilfracombe.co.uk/event/summer-fake-festival-4/
LOCATION:Ilfracombe Swimming Pool\, Ilfracombe
CATEGORIES:Ilfracombe
ATTACH;FMTTYPE=image/jpeg:https://dev.visitilfracombe.co.uk/wp-content/uploads/2025/01/pexels-amber-janssens-6847695-scaled-1.jpg
END:VEVENT
BEGIN:VEVENT
DTSTART;TZID=Europe/London:20250815T080000
DTEND;TZID=Europe/London:20250815T170000
DTSTAMP:20260421T120123
CREATED:20250214T141141Z
LAST-MODIFIED:20250214T141712Z
UID:41833-1755244800-1755277200@dev.visitilfracombe.co.uk
SUMMARY:Summer Fake Festival 3
DESCRIPTION:This isn’t real
URL:https://dev.visitilfracombe.co.uk/event/summer-fake-festival-3/
LOCATION:The Lantern Centre\, High Street\, Ilfracombe\, EX34 9QB\, United Kingdom
CATEGORIES:Ilfracombe
END:VEVENT
BEGIN:VEVENT
DTSTART;TZID=Europe/London:20250809T080000
DTEND;TZID=Europe/London:20250809T170000
DTSTAMP:20260421T120123
CREATED:20250214T141129Z
LAST-MODIFIED:20250214T141604Z
UID:41831-1754726400-1754758800@dev.visitilfracombe.co.uk
SUMMARY:Summer Fake Festival 2
DESCRIPTION:This isn’t real
URL:https://dev.visitilfracombe.co.uk/event/summer-fake-festival-2/
LOCATION:The Lantern Centre\, High Street\, Ilfracombe\, EX34 9QB\, United Kingdom
CATEGORIES:Ilfracombe
END:VEVENT
BEGIN:VEVENT
DTSTART;TZID=Europe/London:20250808T080000
DTEND;TZID=Europe/London:20250808T170000
DTSTAMP:20260421T120123
CREATED:20250214T140146Z
LAST-MODIFIED:20250317T091052Z
UID:41824-1754640000-1754672400@dev.visitilfracombe.co.uk
SUMMARY:Summer Fake Festival
DESCRIPTION:This isn’t real
URL:https://dev.visitilfracombe.co.uk/event/summer-fake-festival/
LOCATION:The Lantern Centre\, High Street\, Ilfracombe\, EX34 9QB\, United Kingdom
CATEGORIES:Ilfracombe
ATTACH;FMTTYPE=image/jpeg:https://dev.visitilfracombe.co.uk/wp-content/uploads/2019/10/Maritime-Festival-JULY-Ellie-Jarvis.jpg
END:VEVENT
BEGIN:VEVENT
DTSTART;VALUE=DATE:20250430
DTEND;VALUE=DATE:20250505
DTSTAMP:20260421T120123
CREATED:20250205T164841Z
LAST-MODIFIED:20250205T164841Z
UID:40392-1745971200-1746403199@dev.visitilfracombe.co.uk
SUMMARY:The Forces March
DESCRIPTION:The Forces March is a recreation of an epic 135-mile WW2 training march from Ilfracombe\, North Devon to Bulford\, Wiltshire. \nThe 1942 march was undertaken by men who would go on to spearhead the entire D-Day liberation with the assault on Pegasus Bridge \nOpen to runners and walkers\, military and civilians\, teams and individuals\, The Forces March is not a race – it’s an adventure! The event attracts people from all backgrounds and abilities who are inspired by the cause\, the scenery and the challenge. Many return year after year having enjoyed the truly unique event and an incredible bond which forms between those taking part. \nStarting from Ilfracombe Seafront the Forces March is one of the UK’s adventures and is held every year in aid of The Veterans Charity. The event follows the route of the legendary and arduous training march created when the Oxfordshire and Buckinghamshire Light Infantry were sent to Devon to train during World War Two and it was then decided to march the entire regiment back to Bulford\, naturally the event became fiercely contested between the companies. \nFrom Ilfracombe\, through Exmoor\, rural Somerset\, over the Quantock Hills\, across the Somerset Levels and then finally across Salisbury Plain to the finish at Bulford – a total of 134 miles – each stage will be at least 26.2 miles in length – that’s five full marathons in five days! Runners – Walkers – Hand Cyclists – Teams & Individuals all take part. \nThe Forces March is a unique\, life-changing event in which more than 1000 people have participated raising over £500\,000 to support veterans facing hardship and distress. All funds raised go to The Veterans Charity – Please support the marchers as they pass.
URL:https://dev.visitilfracombe.co.uk/event/the-forces-march/
LOCATION:Ilfracombe
CATEGORIES:Ilfracombe
ATTACH;FMTTYPE=image/jpeg:https://dev.visitilfracombe.co.uk/wp-content/uploads/2025/02/Forces-March-FM25-Header.jpg
END:VEVENT
BEGIN:VEVENT
DTSTART;VALUE=DATE:20250302
DTEND;VALUE=DATE:20250303
DTSTAMP:20260421T120123
CREATED:20250205T172028Z
LAST-MODIFIED:20250224T224453Z
UID:40423-1740873600-1740959999@dev.visitilfracombe.co.uk
SUMMARY:Ilfracombe Lions Club Swimarathon too long this
DESCRIPTION:Ilfracombe Lions Club run the Swimarathon at the Ilfracombe Pool & Fitness Centre each year. The Swimarathon is open to all ages and all abilities and it’s a really fun way to raise money for your chosen charity or organisation. Teams of no more than six swim in lane for about 55 minutes. \nThe teams collect their sponsorship money. The money is split 50/50 with the Lions who have been raising money for local good causes and people in need for over 40 years. \nIf you’d like to enter a team or know more please contact ilfracombeanddistrictlionsclub@gmail.com \n 
URL:https://dev.visitilfracombe.co.uk/event/ilfracombe-lions-club-swimarathon/
LOCATION:Ilfracombe Swimming Pool\, Ilfracombe
CATEGORIES:Ilfracombe
ATTACH;FMTTYPE=image/jpeg:https://dev.visitilfracombe.co.uk/wp-content/uploads/2018/12/Finish20Line-Copy-1.jpg
ORGANIZER;CN="IBTA":MAILTO:info@ibta.org.uk
END:VEVENT
BEGIN:VEVENT
DTSTART;TZID=Europe/London:20250213T183000
DTEND;TZID=Europe/London:20250213T203000
DTSTAMP:20260421T120123
CREATED:20250131T110210Z
LAST-MODIFIED:20250205T164954Z
UID:39500-1739471400-1739478600@dev.visitilfracombe.co.uk
SUMMARY:Galantines - Sip & Create
DESCRIPTION:Decorate 6 cupcakes\, learn how to pipe butter cream all while enjoying a glass of Prosecco and then take home ready for Valentines Day.
URL:https://dev.visitilfracombe.co.uk/event/galantines-sip-create/
LOCATION:Little Mamas\, Ilfracombe
CATEGORIES:Ilfracombe
ATTACH;FMTTYPE=image/jpeg:https://dev.visitilfracombe.co.uk/wp-content/uploads/2023/01/image8-scaled.jpeg
END:VEVENT
BEGIN:VEVENT
DTSTART;TZID=Europe/London:20250210T190000
DTEND;TZID=Europe/London:20250210T190000
DTSTAMP:20260421T120123
CREATED:20250131T105715Z
LAST-MODIFIED:20250205T160958Z
UID:39495-1739214000-1739214000@dev.visitilfracombe.co.uk
SUMMARY:Globe Poetry Group This Name Got Crazy Long Okay Not To Be Done Normally
DESCRIPTION:Read\, Listen\, Enjoy – Spoken word for all to read. Your own work or cherished favourites.
URL:https://dev.visitilfracombe.co.uk/event/globe-poetry-group/
LOCATION:The Sawmills\, Watermouth\, Ilfracombe\, United Kingdom
CATEGORIES:Ilfracombe
ATTACH;FMTTYPE=image/jpeg:https://dev.visitilfracombe.co.uk/wp-content/uploads/2025/01/books-2182454_1280.jpg
END:VEVENT
END:VCALENDAR